Package: QDNAseq Version: 1.36.0 Command: /Library/Frameworks/R.framework/Resources/bin/R CMD build --keep-empty-dirs --no-resave-data QDNAseq StartedAt: 2023-10-16 15:19:40 -0400 (Mon, 16 Oct 2023) EndedAt: 2023-10-16 15:21:22 -0400 (Mon, 16 Oct 2023) EllapsedTime: 101.2 seconds RetCode: 0 Status: OK PackageFile: QDNAseq_1.36.0.tar.gz PackageFileSize: 1.024 MiB