Package: ProteoMM Version: 1.18.0 Command: /Library/Frameworks/R.framework/Resources/bin/R CMD build --keep-empty-dirs --no-resave-data ProteoMM StartedAt: 2023-10-16 15:02:01 -0400 (Mon, 16 Oct 2023) EndedAt: 2023-10-16 15:03:23 -0400 (Mon, 16 Oct 2023) EllapsedTime: 82.3 seconds RetCode: 0 Status: OK PackageFile: ProteoMM_1.18.0.tar.gz PackageFileSize: 431.7 KiB