Package: Pi Version: 2.12.0 Command: /Library/Frameworks/R.framework/Resources/bin/R CMD INSTALL Pi StartedAt: 2023-10-15 18:55:20 -0400 (Sun, 15 Oct 2023) EndedAt: 2023-10-15 18:56:21 -0400 (Sun, 15 Oct 2023) EllapsedTime: 61.1 seconds RetCode: 0 Status: OK