Package: PepsNMR Version: 1.18.0 Command: /Library/Frameworks/R.framework/Resources/bin/R CMD check --install=check:PepsNMR.install-out.txt --library=/Library/Frameworks/R.framework/Resources/library --no-vignettes --timings PepsNMR_1.18.0.tar.gz StartedAt: 2023-10-18 14:05:21 -0400 (Wed, 18 Oct 2023) EndedAt: 2023-10-18 14:24:51 -0400 (Wed, 18 Oct 2023) EllapsedTime: 1170.6 seconds RetCode: 0 Status: OK CheckDir: PepsNMR.Rcheck Warnings: 0