git_url: https://git.bioconductor.org/packages/PepsNMR git_branch: RELEASE_3_17 git_last_commit: ff62f3a git_last_commit_date: 2023-04-25 11:06:20 -0400 (Tue, 25 Apr 2023) Package: PepsNMR Version: 1.18.0 Maintainer: Manon Martin MaintainerEmail: manon.martin at uclouvain.be