Package: PanViz Version: 1.2.0 Command: /Library/Frameworks/R.framework/Resources/bin/R CMD INSTALL PanViz StartedAt: 2023-10-15 16:09:17 -0400 (Sun, 15 Oct 2023) EndedAt: 2023-10-15 16:09:23 -0400 (Sun, 15 Oct 2023) EllapsedTime: 6.1 seconds RetCode: 0 Status: OK