Package: PSEA Version: 1.34.0 Command: /Library/Frameworks/R.framework/Resources/bin/R CMD check --install=check:PSEA.install-out.txt --library=/Library/Frameworks/R.framework/Resources/library --no-vignettes --timings PSEA_1.34.0.tar.gz StartedAt: 2023-10-18 16:14:11 -0400 (Wed, 18 Oct 2023) EndedAt: 2023-10-18 16:15:15 -0400 (Wed, 18 Oct 2023) EllapsedTime: 64.0 seconds RetCode: 0 Status: OK CheckDir: PSEA.Rcheck Warnings: 0