Package: PSEA Version: 1.34.0 Command: /Library/Frameworks/R.framework/Resources/bin/R CMD build --keep-empty-dirs --no-resave-data PSEA StartedAt: 2023-10-16 15:05:15 -0400 (Mon, 16 Oct 2023) EndedAt: 2023-10-16 15:08:04 -0400 (Mon, 16 Oct 2023) EllapsedTime: 168.7 seconds RetCode: 0 Status: OK PackageFile: PSEA_1.34.0.tar.gz PackageFileSize: 6.121 MiB