Package: PROMISE Version: 1.52.0 Command: /Library/Frameworks/R.framework/Resources/bin/R CMD check --install=check:PROMISE.install-out.txt --library=/Library/Frameworks/R.framework/Resources/library --no-vignettes --timings PROMISE_1.52.0.tar.gz StartedAt: 2023-10-18 16:03:05 -0400 (Wed, 18 Oct 2023) EndedAt: 2023-10-18 16:06:19 -0400 (Wed, 18 Oct 2023) EllapsedTime: 193.6 seconds RetCode: 0 Status: OK CheckDir: PROMISE.Rcheck Warnings: 0