git_url: https://git.bioconductor.org/packages/PLPE git_branch: RELEASE_3_17 git_last_commit: 54660ad git_last_commit_date: 2023-04-25 09:47:28 -0400 (Tue, 25 Apr 2023) Package: PLPE Version: 1.60.0 Maintainer: Soo-heang Eo MaintainerEmail: hanansh at korea.ac.kr