Package: OpenStats Version: 1.12.0 Command: /Library/Frameworks/R.framework/Resources/bin/R CMD INSTALL OpenStats StartedAt: 2023-10-15 18:31:46 -0400 (Sun, 15 Oct 2023) EndedAt: 2023-10-15 18:32:14 -0400 (Sun, 15 Oct 2023) EllapsedTime: 28.3 seconds RetCode: 0 Status: OK