Package: OLINgui Version: 1.74.0 Command: /Library/Frameworks/R.framework/Resources/bin/R CMD check --install=check:OLINgui.install-out.txt --library=/Library/Frameworks/R.framework/Resources/library --no-vignettes --timings OLINgui_1.74.0.tar.gz StartedAt: 2023-10-18 12:15:11 -0400 (Wed, 18 Oct 2023) EndedAt: 2023-10-18 12:16:13 -0400 (Wed, 18 Oct 2023) EllapsedTime: 62.2 seconds RetCode: 0 Status: OK CheckDir: OLINgui.Rcheck Warnings: 0