git_url: https://git.bioconductor.org/packages/OLINgui git_branch: RELEASE_3_17 git_last_commit: 12e7802 git_last_commit_date: 2023-04-25 09:41:03 -0400 (Tue, 25 Apr 2023) Package: OLINgui Version: 1.74.0 Maintainer: Matthias Futschik MaintainerEmail: mfutschik at ualg.pt