Package: NuPoP Version: 2.8.1 Command: /Library/Frameworks/R.framework/Resources/bin/R CMD check --install=check:NuPoP.install-out.txt --library=/Library/Frameworks/R.framework/Resources/library --no-vignettes --timings NuPoP_2.8.1.tar.gz StartedAt: 2023-10-18 11:57:04 -0400 (Wed, 18 Oct 2023) EndedAt: 2023-10-18 11:58:11 -0400 (Wed, 18 Oct 2023) EllapsedTime: 66.7 seconds RetCode: 0 Status: OK CheckDir: NuPoP.Rcheck Warnings: 0