Package: NuPoP Version: 2.8.1 Command: rm -rf NuPoP.buildbin-libdir && mkdir NuPoP.buildbin-libdir && /Users/biocbuild/BBS/utils/build-universal.sh NuPoP_2.8.1.tar.gz /Library/Frameworks/R.framework/Resources/bin/R NuPoP.buildbin-libdir StartedAt: 2023-10-19 15:32:12 -0400 (Thu, 19 Oct 2023) EndedAt: 2023-10-19 15:32:53 -0400 (Thu, 19 Oct 2023) EllapsedTime: 40.5 seconds RetCode: 0 Status: OK PackageFile: NuPoP_2.8.1.tgz PackageFileSize: 4.373 MiB