Package: NeuCA Version: 1.6.0 Command: /Library/Frameworks/R.framework/Resources/bin/R CMD build --keep-empty-dirs --no-resave-data NeuCA StartedAt: 2023-10-16 12:21:35 -0400 (Mon, 16 Oct 2023) EndedAt: 2023-10-16 12:24:04 -0400 (Mon, 16 Oct 2023) EllapsedTime: 149.5 seconds RetCode: 1 Status: ERROR PackageFile: None PackageFileSize: NA