Package: NanoMethViz Version: 2.6.0 Command: /Library/Frameworks/R.framework/Resources/bin/R CMD check --install=check:NanoMethViz.install-out.txt --library=/Library/Frameworks/R.framework/Resources/library --no-vignettes --timings NanoMethViz_2.6.0.tar.gz StartedAt: 2023-10-18 10:51:16 -0400 (Wed, 18 Oct 2023) EndedAt: 2023-10-18 11:03:54 -0400 (Wed, 18 Oct 2023) EllapsedTime: 757.9 seconds RetCode: 0 Status: OK CheckDir: NanoMethViz.Rcheck Warnings: 0