Package: MultiMed Version: 2.22.0 Command: /Library/Frameworks/R.framework/Resources/bin/R CMD INSTALL MultiMed StartedAt: 2023-10-15 19:18:43 -0400 (Sun, 15 Oct 2023) EndedAt: 2023-10-15 19:18:47 -0400 (Sun, 15 Oct 2023) EllapsedTime: 4.5 seconds RetCode: 0 Status: OK