Package: MobilityTransformR Version: 1.4.0 Command: /Library/Frameworks/R.framework/Resources/bin/R CMD INSTALL MobilityTransformR StartedAt: 2023-10-15 18:39:38 -0400 (Sun, 15 Oct 2023) EndedAt: 2023-10-15 18:40:44 -0400 (Sun, 15 Oct 2023) EllapsedTime: 66.1 seconds RetCode: 0 Status: OK