Package: MetaCyto Version: 1.22.0 Command: /Library/Frameworks/R.framework/Resources/bin/R CMD check --install=check:MetaCyto.install-out.txt --library=/Library/Frameworks/R.framework/Resources/library --no-vignettes --timings MetaCyto_1.22.0.tar.gz StartedAt: 2023-10-18 05:53:22 -0400 (Wed, 18 Oct 2023) EndedAt: 2023-10-18 06:01:58 -0400 (Wed, 18 Oct 2023) EllapsedTime: 516.0 seconds RetCode: 0 Status: OK CheckDir: MetaCyto.Rcheck Warnings: 0