Package: MeasurementError.cor Version: 1.72.0 Command: /Library/Frameworks/R.framework/Resources/bin/R CMD INSTALL MeasurementError.cor StartedAt: 2023-10-15 15:21:49 -0400 (Sun, 15 Oct 2023) EndedAt: 2023-10-15 15:21:55 -0400 (Sun, 15 Oct 2023) EllapsedTime: 5.6 seconds RetCode: 0 Status: OK