Package: MeSHDbi Version: 1.36.0 Command: /Library/Frameworks/R.framework/Resources/bin/R CMD check --install=check:MeSHDbi.install-out.txt --library=/Library/Frameworks/R.framework/Resources/library --no-vignettes --timings MeSHDbi_1.36.0.tar.gz StartedAt: 2023-10-18 05:35:37 -0400 (Wed, 18 Oct 2023) EndedAt: 2023-10-18 05:38:53 -0400 (Wed, 18 Oct 2023) EllapsedTime: 196.3 seconds RetCode: 0 Status: OK CheckDir: MeSHDbi.Rcheck Warnings: 0