Package: MeSHDbi Version: 1.36.0 Command: rm -rf MeSHDbi.buildbin-libdir && mkdir MeSHDbi.buildbin-libdir && /Users/biocbuild/BBS/utils/build-universal.sh MeSHDbi_1.36.0.tar.gz /Library/Frameworks/R.framework/Resources/bin/R MeSHDbi.buildbin-libdir StartedAt: 2023-10-19 14:40:38 -0400 (Thu, 19 Oct 2023) EndedAt: 2023-10-19 14:41:15 -0400 (Thu, 19 Oct 2023) EllapsedTime: 37.0 seconds RetCode: 0 Status: OK PackageFile: MeSHDbi_1.36.0.tgz PackageFileSize: 543 KiB