Package: MSstatsTMT Version: 2.8.0 Command: /Library/Frameworks/R.framework/Resources/bin/R CMD check --install=check:MSstatsTMT.install-out.txt --library=/Library/Frameworks/R.framework/Resources/library --no-vignettes --timings MSstatsTMT_2.8.0.tar.gz StartedAt: 2023-10-18 10:11:04 -0400 (Wed, 18 Oct 2023) EndedAt: 2023-10-18 10:14:59 -0400 (Wed, 18 Oct 2023) EllapsedTime: 235.2 seconds RetCode: 0 Status: OK CheckDir: MSstatsTMT.Rcheck Warnings: 0