Package: MSstatsPTM Version: 2.2.4 Command: /Library/Frameworks/R.framework/Resources/bin/R CMD INSTALL MSstatsPTM StartedAt: 2023-10-15 18:53:03 -0400 (Sun, 15 Oct 2023) EndedAt: 2023-10-15 18:53:58 -0400 (Sun, 15 Oct 2023) EllapsedTime: 55.0 seconds RetCode: 0 Status: OK