Package: MSstatsPTM Version: 2.2.4 Command: rm -rf MSstatsPTM.buildbin-libdir && mkdir MSstatsPTM.buildbin-libdir && /Users/biocbuild/BBS/utils/build-universal.sh MSstatsPTM_2.2.4.tar.gz /Library/Frameworks/R.framework/Resources/bin/R MSstatsPTM.buildbin-libdir StartedAt: 2023-10-19 15:14:47 -0400 (Thu, 19 Oct 2023) EndedAt: 2023-10-19 15:16:10 -0400 (Thu, 19 Oct 2023) EllapsedTime: 82.9 seconds RetCode: 0 Status: OK PackageFile: MSstatsPTM_2.2.4.tgz PackageFileSize: 2.873 MiB