Package: MLP Version: 1.48.0 Command: /Library/Frameworks/R.framework/Resources/bin/R CMD INSTALL MLP StartedAt: 2023-10-15 16:03:45 -0400 (Sun, 15 Oct 2023) EndedAt: 2023-10-15 16:04:14 -0400 (Sun, 15 Oct 2023) EllapsedTime: 28.4 seconds RetCode: 0 Status: OK