Package: MLP Version: 1.48.0 Command: /Library/Frameworks/R.framework/Resources/bin/R CMD build --keep-empty-dirs --no-resave-data MLP StartedAt: 2023-10-16 10:25:54 -0400 (Mon, 16 Oct 2023) EndedAt: 2023-10-16 10:27:37 -0400 (Mon, 16 Oct 2023) EllapsedTime: 103.7 seconds RetCode: 0 Status: OK PackageFile: MLP_1.48.0.tar.gz PackageFileSize: 4.289 MiB