Package: MIRA Version: 1.22.0 Command: rm -rf MIRA.buildbin-libdir && mkdir MIRA.buildbin-libdir && /Users/biocbuild/BBS/utils/build-universal.sh MIRA_1.22.0.tar.gz /Library/Frameworks/R.framework/Resources/bin/R MIRA.buildbin-libdir StartedAt: 2023-10-19 14:57:02 -0400 (Thu, 19 Oct 2023) EndedAt: 2023-10-19 14:58:45 -0400 (Thu, 19 Oct 2023) EllapsedTime: 103.4 seconds RetCode: 0 Status: OK PackageFile: MIRA_1.22.0.tgz PackageFileSize: 2.513 MiB