git_url: https://git.bioconductor.org/packages/MEDME git_branch: RELEASE_3_17 git_last_commit: 4be74d4 git_last_commit_date: 2023-04-25 09:47:33 -0400 (Tue, 25 Apr 2023) Package: MEDME Version: 1.60.0 Maintainer: Mattia Pelizzola MaintainerEmail: mattia.pelizzola at gmail.com