Package: MAGAR Version: 1.8.0 Command: rm -rf MAGAR.buildbin-libdir && mkdir MAGAR.buildbin-libdir && /Users/biocbuild/BBS/utils/build-universal.sh MAGAR_1.8.0.tar.gz /Library/Frameworks/R.framework/Resources/bin/R MAGAR.buildbin-libdir StartedAt: 2023-10-19 14:30:08 -0400 (Thu, 19 Oct 2023) EndedAt: 2023-10-19 14:33:12 -0400 (Thu, 19 Oct 2023) EllapsedTime: 183.8 seconds RetCode: 0 Status: OK PackageFile: MAGAR_1.8.0.tgz PackageFileSize: 1.49 MiB