Package: M3Drop Version: 1.26.0 Command: /Library/Frameworks/R.framework/Resources/bin/R CMD check --install=check:M3Drop.install-out.txt --library=/Library/Frameworks/R.framework/Resources/library --no-vignettes --timings M3Drop_1.26.0.tar.gz StartedAt: 2023-10-18 04:10:09 -0400 (Wed, 18 Oct 2023) EndedAt: 2023-10-18 04:20:39 -0400 (Wed, 18 Oct 2023) EllapsedTime: 630.0 seconds RetCode: 0 Status: WARNINGS CheckDir: M3Drop.Rcheck Warnings: 1