Package: LiquidAssociation Version: 1.54.0 Command: /Library/Frameworks/R.framework/Resources/bin/R CMD check --install=check:LiquidAssociation.install-out.txt --library=/Library/Frameworks/R.framework/Resources/library --no-vignettes --timings LiquidAssociation_1.54.0.tar.gz StartedAt: 2023-10-18 03:54:49 -0400 (Wed, 18 Oct 2023) EndedAt: 2023-10-18 03:57:48 -0400 (Wed, 18 Oct 2023) EllapsedTime: 179.0 seconds RetCode: 0 Status: OK CheckDir: LiquidAssociation.Rcheck Warnings: 0