git_url: https://git.bioconductor.org/packages/Linnorm git_branch: RELEASE_3_17 git_last_commit: 2ddb935 git_last_commit_date: 2023-05-01 20:07:35 -0400 (Mon, 01 May 2023) Package: Linnorm Version: 2.24.1 Maintainer: Ken Shun Hang Yip MaintainerEmail: shunyip at bu.edu