Package: LOBSTAHS Version: 1.26.0 Command: /Library/Frameworks/R.framework/Resources/bin/R CMD check --install=check:LOBSTAHS.install-out.txt --library=/Library/Frameworks/R.framework/Resources/library --no-vignettes --timings LOBSTAHS_1.26.0.tar.gz StartedAt: 2023-10-18 03:56:58 -0400 (Wed, 18 Oct 2023) EndedAt: 2023-10-18 04:04:46 -0400 (Wed, 18 Oct 2023) EllapsedTime: 468.3 seconds RetCode: 0 Status: WARNINGS CheckDir: LOBSTAHS.Rcheck Warnings: 1