Package: KEGGREST Version: 1.40.1 Command: /Library/Frameworks/R.framework/Resources/bin/R CMD INSTALL KEGGREST StartedAt: 2023-10-15 15:42:40 -0400 (Sun, 15 Oct 2023) EndedAt: 2023-10-15 15:42:59 -0400 (Sun, 15 Oct 2023) EllapsedTime: 18.7 seconds RetCode: 0 Status: OK