Package: KEGGREST Version: 1.40.1 Command: /Library/Frameworks/R.framework/Resources/bin/R CMD build --keep-empty-dirs --no-resave-data KEGGREST StartedAt: 2023-10-16 07:37:24 -0400 (Mon, 16 Oct 2023) EndedAt: 2023-10-16 07:38:20 -0400 (Mon, 16 Oct 2023) EllapsedTime: 55.0 seconds RetCode: 0 Status: OK PackageFile: KEGGREST_1.40.1.tar.gz PackageFileSize: 21.39 KiB