git_url: https://git.bioconductor.org/packages/KEGGREST git_branch: RELEASE_3_17 git_last_commit: 8b7c45b git_last_commit_date: 2023-09-28 16:25:09 -0400 (Thu, 28 Sep 2023) Package: KEGGREST Version: 1.40.1 Maintainer: Bioconductor Package Maintainer MaintainerEmail: maintainer at bioconductor.org