Package: KCsmart Version: 2.58.0 Command: /Library/Frameworks/R.framework/Resources/bin/R CMD check --install=check:KCsmart.install-out.txt --library=/Library/Frameworks/R.framework/Resources/library --no-vignettes --timings KCsmart_2.58.0.tar.gz StartedAt: 2023-10-18 03:21:30 -0400 (Wed, 18 Oct 2023) EndedAt: 2023-10-18 03:24:09 -0400 (Wed, 18 Oct 2023) EllapsedTime: 159.4 seconds RetCode: 0 Status: WARNINGS CheckDir: KCsmart.Rcheck Warnings: 1