Package: IsoCorrectoR Version: 1.18.0 Command: rm -rf IsoCorrectoR.buildbin-libdir && mkdir IsoCorrectoR.buildbin-libdir && /Users/biocbuild/BBS/utils/build-universal.sh IsoCorrectoR_1.18.0.tar.gz /Library/Frameworks/R.framework/Resources/bin/R IsoCorrectoR.buildbin-libdir StartedAt: 2023-10-19 14:18:27 -0400 (Thu, 19 Oct 2023) EndedAt: 2023-10-19 14:18:47 -0400 (Thu, 19 Oct 2023) EllapsedTime: 20.5 seconds RetCode: 0 Status: OK PackageFile: IsoCorrectoR_1.18.0.tgz PackageFileSize: 1.746 MiB