Package: InteractiveComplexHeatmap Version: 1.8.0 Command: rm -rf InteractiveComplexHeatmap.buildbin-libdir && mkdir InteractiveComplexHeatmap.buildbin-libdir && /Users/biocbuild/BBS/utils/build-universal.sh InteractiveComplexHeatmap_1.8.0.tar.gz /Library/Frameworks/R.framework/Resources/bin/R InteractiveComplexHeatmap.buildbin-libdir StartedAt: 2023-10-19 14:12:08 -0400 (Thu, 19 Oct 2023) EndedAt: 2023-10-19 14:12:44 -0400 (Thu, 19 Oct 2023) EllapsedTime: 36.6 seconds RetCode: 0 Status: OK PackageFile: InteractiveComplexHeatmap_1.8.0.tgz PackageFileSize: 1.123 MiB