Package: InterCellar Version: 2.6.0 Command: /Library/Frameworks/R.framework/Resources/bin/R CMD INSTALL InterCellar StartedAt: 2023-10-15 19:43:40 -0400 (Sun, 15 Oct 2023) EndedAt: 2023-10-15 19:44:33 -0400 (Sun, 15 Oct 2023) EllapsedTime: 52.6 seconds RetCode: 0 Status: OK