Package: Informeasure Version: 1.10.0 Command: rm -rf Informeasure.buildbin-libdir && mkdir Informeasure.buildbin-libdir && /Users/biocbuild/BBS/utils/build-universal.sh Informeasure_1.10.0.tar.gz /Library/Frameworks/R.framework/Resources/bin/R Informeasure.buildbin-libdir StartedAt: 2023-10-19 14:09:51 -0400 (Thu, 19 Oct 2023) EndedAt: 2023-10-19 14:09:59 -0400 (Thu, 19 Oct 2023) EllapsedTime: 7.4 seconds RetCode: 0 Status: OK PackageFile: Informeasure_1.10.0.tgz PackageFileSize: 328.5 KiB