git_url: https://git.bioconductor.org/packages/Informeasure git_branch: RELEASE_3_17 git_last_commit: a33a056 git_last_commit_date: 2023-04-25 11:23:15 -0400 (Tue, 25 Apr 2023) Package: Informeasure Version: 1.10.0 Maintainer: Chu Pan MaintainerEmail: chu.pan at hnu.edu.cn