Package: IPO Version: 1.26.0 Command: /Library/Frameworks/R.framework/Resources/bin/R CMD build --keep-empty-dirs --no-resave-data IPO StartedAt: 2023-10-16 07:08:27 -0400 (Mon, 16 Oct 2023) EndedAt: 2023-10-16 07:40:21 -0400 (Mon, 16 Oct 2023) EllapsedTime: 1914.1 seconds RetCode: 0 Status: OK PackageFile: IPO_1.26.0.tar.gz PackageFileSize: 763.8 KiB