Package: HybridMTest Version: 1.44.0 Command: /Library/Frameworks/R.framework/Resources/bin/R CMD INSTALL HybridMTest StartedAt: 2023-10-15 18:09:01 -0400 (Sun, 15 Oct 2023) EndedAt: 2023-10-15 18:09:15 -0400 (Sun, 15 Oct 2023) EllapsedTime: 14.1 seconds RetCode: 0 Status: OK