Package: HybridMTest Version: 1.44.0 Command: rm -rf HybridMTest.buildbin-libdir && mkdir HybridMTest.buildbin-libdir && /Users/biocbuild/BBS/utils/build-universal.sh HybridMTest_1.44.0.tar.gz /Library/Frameworks/R.framework/Resources/bin/R HybridMTest.buildbin-libdir StartedAt: 2023-10-19 14:03:40 -0400 (Thu, 19 Oct 2023) EndedAt: 2023-10-19 14:03:59 -0400 (Thu, 19 Oct 2023) EllapsedTime: 19.1 seconds RetCode: 0 Status: OK PackageFile: HybridMTest_1.44.0.tgz PackageFileSize: 235.1 KiB