git_url: https://git.bioconductor.org/packages/HybridMTest git_branch: RELEASE_3_17 git_last_commit: 6c44539 git_last_commit_date: 2023-04-25 10:22:37 -0400 (Tue, 25 Apr 2023) Package: HybridMTest Version: 1.44.0 Maintainer: Demba Fofana MaintainerEmail: demba.fofana at stjude.org