Package: HilbertCurve Version: 1.30.0 Command: /Library/Frameworks/R.framework/Resources/bin/R CMD build --keep-empty-dirs --no-resave-data HilbertCurve StartedAt: 2023-10-16 06:07:01 -0400 (Mon, 16 Oct 2023) EndedAt: 2023-10-16 06:10:51 -0400 (Mon, 16 Oct 2023) EllapsedTime: 229.9 seconds RetCode: 0 Status: OK PackageFile: HilbertCurve_1.30.0.tar.gz PackageFileSize: 9.83 MiB