Package: HilbertCurve Version: 1.30.0 Command: rm -rf HilbertCurve.buildbin-libdir && mkdir HilbertCurve.buildbin-libdir && /Users/biocbuild/BBS/utils/build-universal.sh HilbertCurve_1.30.0.tar.gz /Library/Frameworks/R.framework/Resources/bin/R HilbertCurve.buildbin-libdir StartedAt: 2023-10-19 14:01:03 -0400 (Thu, 19 Oct 2023) EndedAt: 2023-10-19 14:01:40 -0400 (Thu, 19 Oct 2023) EllapsedTime: 37.6 seconds RetCode: 0 Status: OK PackageFile: HilbertCurve_1.30.0.tgz PackageFileSize: 6.604 MiB